BEGIN:VCALENDAR
VERSION:2.0
PRODID:-//Adventgemeinde München-Waldfrieden - ECPv6.15.20//NONSGML v1.0//EN
CALSCALE:GREGORIAN
METHOD:PUBLISH
X-ORIGINAL-URL:https://sta-waldfrieden.de
X-WR-CALDESC:Veranstaltungen für Adventgemeinde München-Waldfrieden
REFRESH-INTERVAL;VALUE=DURATION:PT1H
X-Robots-Tag:noindex
X-PUBLISHED-TTL:PT1H
BEGIN:VTIMEZONE
TZID:Europe/Berlin
BEGIN:DAYLIGHT
TZOFFSETFROM:+0100
TZOFFSETTO:+0200
TZNAME:CEST
DTSTART:20220327T010000
END:DAYLIGHT
BEGIN:STANDARD
TZOFFSETFROM:+0200
TZOFFSETTO:+0100
TZNAME:CET
DTSTART:20221030T010000
END:STANDARD
BEGIN:DAYLIGHT
TZOFFSETFROM:+0100
TZOFFSETTO:+0200
TZNAME:CEST
DTSTART:20230326T010000
END:DAYLIGHT
BEGIN:STANDARD
TZOFFSETFROM:+0200
TZOFFSETTO:+0100
TZNAME:CET
DTSTART:20231029T010000
END:STANDARD
BEGIN:DAYLIGHT
TZOFFSETFROM:+0100
TZOFFSETTO:+0200
TZNAME:CEST
DTSTART:20240331T010000
END:DAYLIGHT
BEGIN:STANDARD
TZOFFSETFROM:+0200
TZOFFSETTO:+0100
TZNAME:CET
DTSTART:20241027T010000
END:STANDARD
END:VTIMEZONE
BEGIN:VEVENT
DTSTART;TZID=Europe/Berlin:20231118T110000
DTEND;TZID=Europe/Berlin:20231118T120000
DTSTAMP:20260422T092242
CREATED:20231102T165512Z
LAST-MODIFIED:20231102T165512Z
UID:10000151-1700305200-1700308800@sta-waldfrieden.de
SUMMARY:Gottesdienst mit Tobias Koch
DESCRIPTION:
URL:https://sta-waldfrieden.de/event/gottesdienst-mit-tobias-koch/
LOCATION:Adventgemeinde München-Waldfrieden\, Ehrwalder Straße 87\, München\, 81377
CATEGORIES:Gottesdienst
ORGANIZER;CN="Adventgemeinde Waldfrieden":MAILTO:info@sta-waldfrieden.de
END:VEVENT
BEGIN:VEVENT
DTSTART;TZID=Europe/Berlin:20231118T150000
DTEND;TZID=Europe/Berlin:20231118T170000
DTSTAMP:20260422T092242
CREATED:20231007T145217Z
LAST-MODIFIED:20231007T145217Z
UID:10000137-1700319600-1700326800@sta-waldfrieden.de
SUMMARY:Pfadfinder | Kleines Theater mit Lea
DESCRIPTION:
URL:https://sta-waldfrieden.de/event/pfadfinder-kleines-theater-mit-lea/
LOCATION:Adventgemeinde München-Waldfrieden\, Ehrwalder Straße 87\, München\, 81377
CATEGORIES:Pfadfinder
ORGANIZER;CN="Waldfriedener Waldk%C3%A4uze":MAILTO:pfadfinder@sta-waldfrieden.de
END:VEVENT
END:VCALENDAR