BEGIN:VCALENDAR
VERSION:2.0
PRODID:-//Adventgemeinde München-Waldfrieden - ECPv6.15.20//NONSGML v1.0//EN
CALSCALE:GREGORIAN
METHOD:PUBLISH
X-ORIGINAL-URL:https://sta-waldfrieden.de
X-WR-CALDESC:Veranstaltungen für Adventgemeinde München-Waldfrieden
REFRESH-INTERVAL;VALUE=DURATION:PT1H
X-Robots-Tag:noindex
X-PUBLISHED-TTL:PT1H
BEGIN:VTIMEZONE
TZID:Europe/Berlin
BEGIN:DAYLIGHT
TZOFFSETFROM:+0100
TZOFFSETTO:+0200
TZNAME:CEST
DTSTART:20230326T010000
END:DAYLIGHT
BEGIN:STANDARD
TZOFFSETFROM:+0200
TZOFFSETTO:+0100
TZNAME:CET
DTSTART:20231029T010000
END:STANDARD
BEGIN:DAYLIGHT
TZOFFSETFROM:+0100
TZOFFSETTO:+0200
TZNAME:CEST
DTSTART:20240331T010000
END:DAYLIGHT
BEGIN:STANDARD
TZOFFSETFROM:+0200
TZOFFSETTO:+0100
TZNAME:CET
DTSTART:20241027T010000
END:STANDARD
BEGIN:DAYLIGHT
TZOFFSETFROM:+0100
TZOFFSETTO:+0200
TZNAME:CEST
DTSTART:20250330T010000
END:DAYLIGHT
BEGIN:STANDARD
TZOFFSETFROM:+0200
TZOFFSETTO:+0100
TZNAME:CET
DTSTART:20251026T010000
END:STANDARD
END:VTIMEZONE
BEGIN:VEVENT
DTSTART;TZID=Europe/Berlin:20240321T193000
DTEND;TZID=Europe/Berlin:20240321T203000
DTSTAMP:20260422T013548
CREATED:20221209T132204Z
LAST-MODIFIED:20241127T113848Z
UID:10000179-1711049400-1711053000@sta-waldfrieden.de
SUMMARY:Bibelkreis
DESCRIPTION:
URL:https://sta-waldfrieden.de/event/bibelkreis/2024-03-21/
LOCATION:Adventgemeinde München-Waldfrieden\, Ehrwalder Straße 87\, München\, 81377
CATEGORIES:Bibelkreise
ATTACH;FMTTYPE=image/jpeg:https://sta-waldfrieden.de/wp-content/uploads/2022/12/bibelkreis_web.jpg
ORGANIZER;CN="Adventgemeinde Waldfrieden":MAILTO:info@sta-waldfrieden.de
END:VEVENT
END:VCALENDAR