BEGIN:VCALENDAR
VERSION:2.0
PRODID:-//Adventgemeinde München-Waldfrieden - ECPv6.15.20//NONSGML v1.0//EN
CALSCALE:GREGORIAN
METHOD:PUBLISH
X-ORIGINAL-URL:https://sta-waldfrieden.de
X-WR-CALDESC:Veranstaltungen für Adventgemeinde München-Waldfrieden
REFRESH-INTERVAL;VALUE=DURATION:PT1H
X-Robots-Tag:noindex
X-PUBLISHED-TTL:PT1H
BEGIN:VTIMEZONE
TZID:Europe/Berlin
BEGIN:DAYLIGHT
TZOFFSETFROM:+0100
TZOFFSETTO:+0200
TZNAME:CEST
DTSTART:20230326T010000
END:DAYLIGHT
BEGIN:STANDARD
TZOFFSETFROM:+0200
TZOFFSETTO:+0100
TZNAME:CET
DTSTART:20231029T010000
END:STANDARD
BEGIN:DAYLIGHT
TZOFFSETFROM:+0100
TZOFFSETTO:+0200
TZNAME:CEST
DTSTART:20240331T010000
END:DAYLIGHT
BEGIN:STANDARD
TZOFFSETFROM:+0200
TZOFFSETTO:+0100
TZNAME:CET
DTSTART:20241027T010000
END:STANDARD
BEGIN:DAYLIGHT
TZOFFSETFROM:+0100
TZOFFSETTO:+0200
TZNAME:CEST
DTSTART:20250330T010000
END:DAYLIGHT
BEGIN:STANDARD
TZOFFSETFROM:+0200
TZOFFSETTO:+0100
TZNAME:CET
DTSTART:20251026T010000
END:STANDARD
END:VTIMEZONE
BEGIN:VEVENT
DTSTART;TZID=Europe/Berlin:20240921T110000
DTEND;TZID=Europe/Berlin:20240921T120000
DTSTAMP:20260421T164144
CREATED:20240812T183200Z
LAST-MODIFIED:20240812T183200Z
UID:10000247-1726916400-1726920000@sta-waldfrieden.de
SUMMARY:WortWechsel - ein besonderer Gottesdienst des Austauschens
DESCRIPTION:
URL:https://sta-waldfrieden.de/event/wortwechsel-ein-besonderer-gottesdienst-des-austauschens-2/
LOCATION:Adventgemeinde München-Waldfrieden\, Ehrwalder Straße 87\, München\, 81377
CATEGORIES:Gottesdienst,Kinder
ORGANIZER;CN="Adventgemeinde Waldfrieden":MAILTO:info@sta-waldfrieden.de
END:VEVENT
BEGIN:VEVENT
DTSTART;TZID=Europe/Berlin:20240921T140000
DTEND;TZID=Europe/Berlin:20240921T160000
DTSTAMP:20260421T164144
CREATED:20240812T181420Z
LAST-MODIFIED:20240812T181420Z
UID:10000235-1726927200-1726934400@sta-waldfrieden.de
SUMMARY:Pfadfinder
DESCRIPTION:
URL:https://sta-waldfrieden.de/event/pfadfinder-12/
LOCATION:Adventgemeinde München-Waldfrieden\, Ehrwalder Straße 87\, München\, 81377
CATEGORIES:Pfadfinder
ORGANIZER;CN="Waldfriedener Waldk%C3%A4uze":MAILTO:pfadfinder@sta-waldfrieden.de
END:VEVENT
END:VCALENDAR