BEGIN:VCALENDAR
VERSION:2.0
PRODID:-//Adventgemeinde München-Waldfrieden - ECPv6.15.20//NONSGML v1.0//EN
CALSCALE:GREGORIAN
METHOD:PUBLISH
X-ORIGINAL-URL:https://sta-waldfrieden.de
X-WR-CALDESC:Veranstaltungen für Adventgemeinde München-Waldfrieden
REFRESH-INTERVAL;VALUE=DURATION:PT1H
X-Robots-Tag:noindex
X-PUBLISHED-TTL:PT1H
BEGIN:VTIMEZONE
TZID:Europe/Berlin
BEGIN:DAYLIGHT
TZOFFSETFROM:+0100
TZOFFSETTO:+0200
TZNAME:CEST
DTSTART:20220327T010000
END:DAYLIGHT
BEGIN:STANDARD
TZOFFSETFROM:+0200
TZOFFSETTO:+0100
TZNAME:CET
DTSTART:20221030T010000
END:STANDARD
BEGIN:DAYLIGHT
TZOFFSETFROM:+0100
TZOFFSETTO:+0200
TZNAME:CEST
DTSTART:20230326T010000
END:DAYLIGHT
BEGIN:STANDARD
TZOFFSETFROM:+0200
TZOFFSETTO:+0100
TZNAME:CET
DTSTART:20231029T010000
END:STANDARD
BEGIN:DAYLIGHT
TZOFFSETFROM:+0100
TZOFFSETTO:+0200
TZNAME:CEST
DTSTART:20240331T010000
END:DAYLIGHT
BEGIN:STANDARD
TZOFFSETFROM:+0200
TZOFFSETTO:+0100
TZNAME:CET
DTSTART:20241027T010000
END:STANDARD
END:VTIMEZONE
BEGIN:VEVENT
DTSTART;TZID=Europe/Berlin:20230401T110000
DTEND;TZID=Europe/Berlin:20230401T120000
DTSTAMP:20260424T210523
CREATED:20230307T092445Z
LAST-MODIFIED:20230307T092512Z
UID:10000092-1680346800-1680350400@sta-waldfrieden.de
SUMMARY:Taufgottesdienst mit Christian Badorrek
DESCRIPTION:
URL:https://sta-waldfrieden.de/event/taufgottesdienst-mit-christian-badorrek-2/
LOCATION:Adventgemeinde München-Waldfrieden\, Ehrwalder Straße 87\, München\, 81377
CATEGORIES:Gottesdienst
ORGANIZER;CN="Adventgemeinde Waldfrieden":MAILTO:info@sta-waldfrieden.de
END:VEVENT
BEGIN:VEVENT
DTSTART;TZID=Europe/Berlin:20230408T110000
DTEND;TZID=Europe/Berlin:20230408T120000
DTSTAMP:20260424T210523
CREATED:20230307T092622Z
LAST-MODIFIED:20230307T092622Z
UID:10000093-1680951600-1680955200@sta-waldfrieden.de
SUMMARY:Gottesdienst mit Rafael Krüger
DESCRIPTION:
URL:https://sta-waldfrieden.de/event/gottesdienst-mit-rafael-krueger-3/
LOCATION:Adventgemeinde München-Waldfrieden\, Ehrwalder Straße 87\, München\, 81377
CATEGORIES:Gottesdienst
ORGANIZER;CN="Adventgemeinde Waldfrieden":MAILTO:info@sta-waldfrieden.de
END:VEVENT
BEGIN:VEVENT
DTSTART;TZID=Europe/Berlin:20230415T110000
DTEND;TZID=Europe/Berlin:20230415T120000
DTSTAMP:20260424T210523
CREATED:20230307T092738Z
LAST-MODIFIED:20230307T092739Z
UID:10000094-1681556400-1681560000@sta-waldfrieden.de
SUMMARY:Gottesdienst mit Petko Bonev
DESCRIPTION:
URL:https://sta-waldfrieden.de/event/gottesdienst-mit-petko-bonev/
LOCATION:Adventgemeinde München-Waldfrieden\, Ehrwalder Straße 87\, München\, 81377
CATEGORIES:Gottesdienst
ORGANIZER;CN="Adventgemeinde Waldfrieden":MAILTO:info@sta-waldfrieden.de
END:VEVENT
BEGIN:VEVENT
DTSTART;TZID=Europe/Berlin:20230415T200000
DTEND;TZID=Europe/Berlin:20230415T220000
DTSTAMP:20260424T210523
CREATED:20230120T103310Z
LAST-MODIFIED:20230307T092653Z
UID:10000048-1681588800-1681596000@sta-waldfrieden.de
SUMMARY:Worship-Night
DESCRIPTION:
URL:https://sta-waldfrieden.de/event/worship-night-noch-offen/
LOCATION:Adventgemeinde München-Waldfrieden\, Ehrwalder Straße 87\, München\, 81377
CATEGORIES:Gottesdienst
ORGANIZER;CN="Adventgemeinde Waldfrieden":MAILTO:info@sta-waldfrieden.de
END:VEVENT
BEGIN:VEVENT
DTSTART;TZID=Europe/Berlin:20230422T110000
DTEND;TZID=Europe/Berlin:20230422T120000
DTSTAMP:20260424T210523
CREATED:20230411T103906Z
LAST-MODIFIED:20230427T065558Z
UID:10000095-1682161200-1682164800@sta-waldfrieden.de
SUMMARY:Abendmahl mit Miki Jovanovic
DESCRIPTION:
URL:https://sta-waldfrieden.de/event/abendmahl-mit-miki-jovanovic/
LOCATION:Adventgemeinde München-Waldfrieden\, Ehrwalder Straße 87\, München\, 81377
CATEGORIES:Gottesdienst
ORGANIZER;CN="Adventgemeinde Waldfrieden":MAILTO:info@sta-waldfrieden.de
END:VEVENT
BEGIN:VEVENT
DTSTART;TZID=Europe/Berlin:20230423T110000
DTEND;TZID=Europe/Berlin:20230423T130000
DTSTAMP:20260424T210523
CREATED:20230124T113534Z
LAST-MODIFIED:20230124T113534Z
UID:10000068-1682247600-1682254800@sta-waldfrieden.de
SUMMARY:Kegeln im Cafe Westend
DESCRIPTION:
URL:https://sta-waldfrieden.de/event/kegeln-im-cafe-westend/
LOCATION:Cafe Westend\, Ganghofer Straße 50\, München\, 80339
CATEGORIES:Sonstiges
ORGANIZER;CN="Adventgemeinde Waldfrieden":MAILTO:info@sta-waldfrieden.de
END:VEVENT
BEGIN:VEVENT
DTSTART;TZID=Europe/Berlin:20230429T080000
DTEND;TZID=Europe/Berlin:20230429T170000
DTSTAMP:20260424T210523
CREATED:20230123T082852Z
LAST-MODIFIED:20230427T065624Z
UID:10000063-1682755200-1682787600@sta-waldfrieden.de
SUMMARY:Fokus: Kirche - Talente | Miki Jovanovic
DESCRIPTION:
URL:https://sta-waldfrieden.de/event/fokus-kirche-talente-miki-jovanovic/
LOCATION:Adventgemeinde München-Waldfrieden\, Ehrwalder Straße 87\, München\, 81377
CATEGORIES:Gottesdienst
ORGANIZER;CN="Adventgemeinde Waldfrieden":MAILTO:info@sta-waldfrieden.de
END:VEVENT
END:VCALENDAR