BEGIN:VCALENDAR
VERSION:2.0
PRODID:-//Adventgemeinde München-Waldfrieden - ECPv6.15.20//NONSGML v1.0//EN
CALSCALE:GREGORIAN
METHOD:PUBLISH
X-ORIGINAL-URL:https://sta-waldfrieden.de
X-WR-CALDESC:Veranstaltungen für Adventgemeinde München-Waldfrieden
REFRESH-INTERVAL;VALUE=DURATION:PT1H
X-Robots-Tag:noindex
X-PUBLISHED-TTL:PT1H
BEGIN:VTIMEZONE
TZID:Europe/Berlin
BEGIN:DAYLIGHT
TZOFFSETFROM:+0100
TZOFFSETTO:+0200
TZNAME:CEST
DTSTART:20220327T010000
END:DAYLIGHT
BEGIN:STANDARD
TZOFFSETFROM:+0200
TZOFFSETTO:+0100
TZNAME:CET
DTSTART:20221030T010000
END:STANDARD
BEGIN:DAYLIGHT
TZOFFSETFROM:+0100
TZOFFSETTO:+0200
TZNAME:CEST
DTSTART:20230326T010000
END:DAYLIGHT
BEGIN:STANDARD
TZOFFSETFROM:+0200
TZOFFSETTO:+0100
TZNAME:CET
DTSTART:20231029T010000
END:STANDARD
BEGIN:DAYLIGHT
TZOFFSETFROM:+0100
TZOFFSETTO:+0200
TZNAME:CEST
DTSTART:20240331T010000
END:DAYLIGHT
BEGIN:STANDARD
TZOFFSETFROM:+0200
TZOFFSETTO:+0100
TZNAME:CET
DTSTART:20241027T010000
END:STANDARD
END:VTIMEZONE
BEGIN:VEVENT
DTSTART;TZID=Europe/Berlin:20230502T190000
DTEND;TZID=Europe/Berlin:20230502T200000
DTSTAMP:20260424T193357
CREATED:20221209T132204Z
LAST-MODIFIED:20241127T113848Z
UID:10000078-1683054000-1683057600@sta-waldfrieden.de
SUMMARY:Bibelkreis
DESCRIPTION:
URL:https://sta-waldfrieden.de/event/bibelkreis/2023-05-02/
LOCATION:Adventgemeinde München-Waldfrieden\, Ehrwalder Straße 87\, München\, 81377
CATEGORIES:Bibelkreise
ATTACH;FMTTYPE=image/jpeg:https://sta-waldfrieden.de/wp-content/uploads/2022/12/bibelkreis_web.jpg
ORGANIZER;CN="Adventgemeinde Waldfrieden":MAILTO:info@sta-waldfrieden.de
END:VEVENT
BEGIN:VEVENT
DTSTART;TZID=Europe/Berlin:20230506T110000
DTEND;TZID=Europe/Berlin:20230506T120000
DTSTAMP:20260424T193357
CREATED:20230120T103140Z
LAST-MODIFIED:20230120T103140Z
UID:10000045-1683370800-1683374400@sta-waldfrieden.de
SUMMARY:Kindergartengottesdienst
DESCRIPTION:
URL:https://sta-waldfrieden.de/event/kindergartengottesdienst/
LOCATION:Adventgemeinde München-Waldfrieden\, Ehrwalder Straße 87\, München\, 81377
CATEGORIES:Gottesdienst
ORGANIZER;CN="Adventgemeinde Waldfrieden":MAILTO:info@sta-waldfrieden.de
END:VEVENT
BEGIN:VEVENT
DTSTART;TZID=Europe/Berlin:20230506T150000
DTEND;TZID=Europe/Berlin:20230506T170000
DTSTAMP:20260424T193357
CREATED:20230505T091954Z
LAST-MODIFIED:20230505T092439Z
UID:10000101-1683385200-1683392400@sta-waldfrieden.de
SUMMARY:Pfadfinder | Gradabzeichen
DESCRIPTION:
URL:https://sta-waldfrieden.de/event/pfadfinder-gradabzeichen/
LOCATION:Adventgemeinde München-Waldfrieden\, Ehrwalder Straße 87\, München\, 81377
CATEGORIES:Pfadfinder
ORGANIZER;CN="Waldfriedener Waldk%C3%A4uze":MAILTO:pfadfinder@sta-waldfrieden.de
END:VEVENT
BEGIN:VEVENT
DTSTART;TZID=Europe/Berlin:20230513T110000
DTEND;TZID=Europe/Berlin:20230513T120000
DTSTAMP:20260424T193357
CREATED:20230411T104020Z
LAST-MODIFIED:20230503T060411Z
UID:10000096-1683975600-1683979200@sta-waldfrieden.de
SUMMARY:Gottesdienst mit Yasmin Grauenhorst
DESCRIPTION:
URL:https://sta-waldfrieden.de/event/gottesdienst-mit-yasmin-grauenhorst/
LOCATION:Adventgemeinde München-Waldfrieden\, Ehrwalder Straße 87\, München\, 81377
CATEGORIES:Gottesdienst
ORGANIZER;CN="Adventgemeinde Waldfrieden":MAILTO:info@sta-waldfrieden.de
END:VEVENT
BEGIN:VEVENT
DTSTART;TZID=Europe/Berlin:20230516T190000
DTEND;TZID=Europe/Berlin:20230516T200000
DTSTAMP:20260424T193357
CREATED:20221209T132204Z
LAST-MODIFIED:20241127T113848Z
UID:10000079-1684263600-1684267200@sta-waldfrieden.de
SUMMARY:Bibelkreis
DESCRIPTION:
URL:https://sta-waldfrieden.de/event/bibelkreis/2023-05-16/
LOCATION:Adventgemeinde München-Waldfrieden\, Ehrwalder Straße 87\, München\, 81377
CATEGORIES:Bibelkreise
ATTACH;FMTTYPE=image/jpeg:https://sta-waldfrieden.de/wp-content/uploads/2022/12/bibelkreis_web.jpg
ORGANIZER;CN="Adventgemeinde Waldfrieden":MAILTO:info@sta-waldfrieden.de
END:VEVENT
BEGIN:VEVENT
DTSTART;TZID=Europe/Berlin:20230520T110000
DTEND;TZID=Europe/Berlin:20230520T120000
DTSTAMP:20260424T193357
CREATED:20230411T104054Z
LAST-MODIFIED:20230411T104054Z
UID:10000097-1684580400-1684584000@sta-waldfrieden.de
SUMMARY:Gottesdienst mit Rafael Krüger
DESCRIPTION:
URL:https://sta-waldfrieden.de/event/gottesdienst-mit-rafael-krueger-4/
LOCATION:Adventgemeinde München-Waldfrieden\, Ehrwalder Straße 87\, München\, 81377
CATEGORIES:Gottesdienst
ORGANIZER;CN="Adventgemeinde Waldfrieden":MAILTO:info@sta-waldfrieden.de
END:VEVENT
BEGIN:VEVENT
DTSTART;TZID=Europe/Berlin:20230520T140000
DTEND;TZID=Europe/Berlin:20230520T160000
DTSTAMP:20260424T193357
CREATED:20230505T092156Z
LAST-MODIFIED:20230512T100559Z
UID:10000102-1684591200-1684598400@sta-waldfrieden.de
SUMMARY:Pfadfinder | Vorbereitung auf die SteWa und Völkerball
DESCRIPTION:
URL:https://sta-waldfrieden.de/event/pfadfinder-vorbereitung-auf-die-stewa-und-voelkerball/
LOCATION:Adventgemeinde München-Waldfrieden\, Ehrwalder Straße 87\, München\, 81377
CATEGORIES:Pfadfinder
ORGANIZER;CN="Waldfriedener Waldk%C3%A4uze":MAILTO:pfadfinder@sta-waldfrieden.de
END:VEVENT
BEGIN:VEVENT
DTSTART;TZID=Europe/Berlin:20230520T173000
DTEND;TZID=Europe/Berlin:20230520T193000
DTSTAMP:20260424T193357
CREATED:20230505T092906Z
LAST-MODIFIED:20240201T084850Z
UID:10000106-1684603800-1684611000@sta-waldfrieden.de
SUMMARY:Munich-Meets
DESCRIPTION:
URL:https://sta-waldfrieden.de/event/munich-meets/2023-05-20/
LOCATION:Adventgemeinde München-Waldfrieden\, Ehrwalder Straße 87\, München\, 81377
CATEGORIES:Jugend
ORGANIZER;CN="Adventgemeinde Waldfrieden":MAILTO:info@sta-waldfrieden.de
END:VEVENT
BEGIN:VEVENT
DTSTART;TZID=Europe/Berlin:20230527T110000
DTEND;TZID=Europe/Berlin:20230527T120000
DTSTAMP:20260424T193357
CREATED:20230123T083023Z
LAST-MODIFIED:20230424T185436Z
UID:10000064-1685185200-1685188800@sta-waldfrieden.de
SUMMARY:Fokus: Kirche - Bevollmächtigende Leitung | Miki Jovanovic
DESCRIPTION:
URL:https://sta-waldfrieden.de/event/fokus-kirche-bevollmaechtigende-leitung-miki-jovanovic/
LOCATION:Adventgemeinde München-Waldfrieden\, Ehrwalder Straße 87\, München\, 81377
CATEGORIES:Gottesdienst
ORGANIZER;CN="Adventgemeinde Waldfrieden":MAILTO:info@sta-waldfrieden.de
END:VEVENT
BEGIN:VEVENT
DTSTART;TZID=Europe/Berlin:20230530T190000
DTEND;TZID=Europe/Berlin:20230530T200000
DTSTAMP:20260424T193357
CREATED:20221209T132204Z
LAST-MODIFIED:20241127T113848Z
UID:10000080-1685473200-1685476800@sta-waldfrieden.de
SUMMARY:Bibelkreis
DESCRIPTION:
URL:https://sta-waldfrieden.de/event/bibelkreis/2023-05-30/
LOCATION:Adventgemeinde München-Waldfrieden\, Ehrwalder Straße 87\, München\, 81377
CATEGORIES:Bibelkreise
ATTACH;FMTTYPE=image/jpeg:https://sta-waldfrieden.de/wp-content/uploads/2022/12/bibelkreis_web.jpg
ORGANIZER;CN="Adventgemeinde Waldfrieden":MAILTO:info@sta-waldfrieden.de
END:VEVENT
END:VCALENDAR