BEGIN:VCALENDAR
VERSION:2.0
PRODID:-//Adventgemeinde München-Waldfrieden - ECPv6.15.20//NONSGML v1.0//EN
CALSCALE:GREGORIAN
METHOD:PUBLISH
X-WR-CALNAME:Adventgemeinde München-Waldfrieden
X-ORIGINAL-URL:https://sta-waldfrieden.de
X-WR-CALDESC:Veranstaltungen für Adventgemeinde München-Waldfrieden
REFRESH-INTERVAL;VALUE=DURATION:PT1H
X-Robots-Tag:noindex
X-PUBLISHED-TTL:PT1H
BEGIN:VTIMEZONE
TZID:Europe/Berlin
BEGIN:DAYLIGHT
TZOFFSETFROM:+0100
TZOFFSETTO:+0200
TZNAME:CEST
DTSTART:20220327T010000
END:DAYLIGHT
BEGIN:STANDARD
TZOFFSETFROM:+0200
TZOFFSETTO:+0100
TZNAME:CET
DTSTART:20221030T010000
END:STANDARD
BEGIN:DAYLIGHT
TZOFFSETFROM:+0100
TZOFFSETTO:+0200
TZNAME:CEST
DTSTART:20230326T010000
END:DAYLIGHT
BEGIN:STANDARD
TZOFFSETFROM:+0200
TZOFFSETTO:+0100
TZNAME:CET
DTSTART:20231029T010000
END:STANDARD
BEGIN:DAYLIGHT
TZOFFSETFROM:+0100
TZOFFSETTO:+0200
TZNAME:CEST
DTSTART:20240331T010000
END:DAYLIGHT
BEGIN:STANDARD
TZOFFSETFROM:+0200
TZOFFSETTO:+0100
TZNAME:CET
DTSTART:20241027T010000
END:STANDARD
END:VTIMEZONE
BEGIN:VEVENT
DTSTART;TZID=Europe/Berlin:20231007T110000
DTEND;TZID=Europe/Berlin:20231007T120000
DTSTAMP:20260424T114512
CREATED:20230929T190726Z
LAST-MODIFIED:20230929T190726Z
UID:10000127-1696676400-1696680000@sta-waldfrieden.de
SUMMARY:Gottesdienst mit Sarah Herter
DESCRIPTION:
URL:https://sta-waldfrieden.de/event/gottesdienst-mit-sarah-herter-2/
LOCATION:Adventgemeinde München-Waldfrieden\, Ehrwalder Straße 87\, München\, 81377
CATEGORIES:Gottesdienst
ORGANIZER;CN="Adventgemeinde Waldfrieden":MAILTO:info@sta-waldfrieden.de
END:VEVENT
BEGIN:VEVENT
DTSTART;TZID=Europe/Berlin:20231007T150000
DTEND;TZID=Europe/Berlin:20231007T170000
DTSTAMP:20260424T114512
CREATED:20230920T082358Z
LAST-MODIFIED:20230920T082421Z
UID:10000126-1696690800-1696698000@sta-waldfrieden.de
SUMMARY:Pfadfinder | Gummihuhngolf
DESCRIPTION:
URL:https://sta-waldfrieden.de/event/pfadfinder-gummihuhngolf/
LOCATION:Adventgemeinde München-Waldfrieden\, Ehrwalder Straße 87\, München\, 81377
CATEGORIES:Pfadfinder
ORGANIZER;CN="Waldfriedener Waldk%C3%A4uze":MAILTO:pfadfinder@sta-waldfrieden.de
END:VEVENT
BEGIN:VEVENT
DTSTART;TZID=Europe/Berlin:20231010T190000
DTEND;TZID=Europe/Berlin:20231010T200000
DTSTAMP:20260424T114512
CREATED:20230609T103558Z
LAST-MODIFIED:20231007T144736Z
UID:10000130-1696964400-1696968000@sta-waldfrieden.de
SUMMARY:Hauskreis - Schäftlanstraße
DESCRIPTION:Nähere Infos bei Miri
URL:https://sta-waldfrieden.de/event/hauskreis-schaeftlanstrasse/2023-10-10/
LOCATION:Hauskreis in der Schäftlanstraße 100\, Schäftlanstraße 100\, München\, 81371\, Deutschland
CATEGORIES:Bibelkreise
ORGANIZER;CN="Adventgemeinde Waldfrieden":MAILTO:info@sta-waldfrieden.de
END:VEVENT
BEGIN:VEVENT
DTSTART;TZID=Europe/Berlin:20231014T110000
DTEND;TZID=Europe/Berlin:20231014T120000
DTSTAMP:20260424T114512
CREATED:20230929T190906Z
LAST-MODIFIED:20230929T190906Z
UID:10000129-1697281200-1697284800@sta-waldfrieden.de
SUMMARY:Abendmahl mit Miki Jovanovic
DESCRIPTION:
URL:https://sta-waldfrieden.de/event/abendmahl-mit-miki-jovanovic-2/
LOCATION:Adventgemeinde München-Waldfrieden\, Ehrwalder Straße 87\, München\, 81377
CATEGORIES:Gottesdienst
ORGANIZER;CN="Adventgemeinde Waldfrieden":MAILTO:info@sta-waldfrieden.de
END:VEVENT
BEGIN:VEVENT
DTSTART;TZID=Europe/Berlin:20231014T173000
DTEND;TZID=Europe/Berlin:20231014T193000
DTSTAMP:20260424T114512
CREATED:20230505T092906Z
LAST-MODIFIED:20240201T084850Z
UID:10000140-1697304600-1697311800@sta-waldfrieden.de
SUMMARY:Munich-Meets
DESCRIPTION:
URL:https://sta-waldfrieden.de/event/munich-meets/2023-10-14/
LOCATION:Adventgemeinde München-Waldfrieden\, Ehrwalder Straße 87\, München\, 81377
CATEGORIES:Jugend
ORGANIZER;CN="Adventgemeinde Waldfrieden":MAILTO:info@sta-waldfrieden.de
END:VEVENT
BEGIN:VEVENT
DTSTART;TZID=Europe/Berlin:20231015T110000
DTEND;TZID=Europe/Berlin:20231015T130000
DTSTAMP:20260424T114512
CREATED:20230124T114442Z
LAST-MODIFIED:20230124T114442Z
UID:10000069-1697367600-1697374800@sta-waldfrieden.de
SUMMARY:Kegeln im Cafe Westend
DESCRIPTION:
URL:https://sta-waldfrieden.de/event/kegeln-im-cafe-westend-2/
LOCATION:Cafe Westend\, Ganghofer Straße 50\, München\, 80339
CATEGORIES:Sonstiges
ORGANIZER;CN="Adventgemeinde Waldfrieden":MAILTO:info@sta-waldfrieden.de
END:VEVENT
BEGIN:VEVENT
DTSTART;TZID=Europe/Berlin:20231019T190000
DTEND;TZID=Europe/Berlin:20231019T200000
DTSTAMP:20260424T114512
CREATED:20221209T132204Z
LAST-MODIFIED:20241127T113848Z
UID:10000141-1697742000-1697745600@sta-waldfrieden.de
SUMMARY:Bibelkreis
DESCRIPTION:
URL:https://sta-waldfrieden.de/event/bibelkreis/2023-10-19/
LOCATION:Adventgemeinde München-Waldfrieden\, Ehrwalder Straße 87\, München\, 81377
CATEGORIES:Bibelkreise
ATTACH;FMTTYPE=image/jpeg:https://sta-waldfrieden.de/wp-content/uploads/2022/12/bibelkreis_web.jpg
ORGANIZER;CN="Adventgemeinde Waldfrieden":MAILTO:info@sta-waldfrieden.de
END:VEVENT
BEGIN:VEVENT
DTSTART;TZID=Europe/Berlin:20231021T110000
DTEND;TZID=Europe/Berlin:20231021T120000
DTSTAMP:20260424T114512
CREATED:20230929T190800Z
LAST-MODIFIED:20230929T190800Z
UID:10000128-1697886000-1697889600@sta-waldfrieden.de
SUMMARY:Gottesdienst mit Katrin Weigert
DESCRIPTION:
URL:https://sta-waldfrieden.de/event/gottesdienst-mit-katrin-weigert-3/
LOCATION:Adventgemeinde München-Waldfrieden\, Ehrwalder Straße 87\, München\, 81377
CATEGORIES:Gottesdienst
ORGANIZER;CN="Adventgemeinde Waldfrieden":MAILTO:info@sta-waldfrieden.de
END:VEVENT
BEGIN:VEVENT
DTSTART;TZID=Europe/Berlin:20231021T150000
DTEND;TZID=Europe/Berlin:20231021T170000
DTSTAMP:20260424T114512
CREATED:20231007T145047Z
LAST-MODIFIED:20231007T145047Z
UID:10000136-1697900400-1697907600@sta-waldfrieden.de
SUMMARY:Pfadfinder | Workout mit Entoni
DESCRIPTION:
URL:https://sta-waldfrieden.de/event/pfadfinder-workout-mit-entoni/
LOCATION:Adventgemeinde München-Waldfrieden\, Ehrwalder Straße 87\, München\, 81377
CATEGORIES:Pfadfinder
ORGANIZER;CN="Waldfriedener Waldk%C3%A4uze":MAILTO:pfadfinder@sta-waldfrieden.de
END:VEVENT
BEGIN:VEVENT
DTSTART;TZID=Europe/Berlin:20231024T190000
DTEND;TZID=Europe/Berlin:20231024T200000
DTSTAMP:20260424T114512
CREATED:20230609T103558Z
LAST-MODIFIED:20231007T144736Z
UID:10000131-1698174000-1698177600@sta-waldfrieden.de
SUMMARY:Hauskreis - Schäftlanstraße
DESCRIPTION:Nähere Infos bei Miri
URL:https://sta-waldfrieden.de/event/hauskreis-schaeftlanstrasse/2023-10-24/
LOCATION:Hauskreis in der Schäftlanstraße 100\, Schäftlanstraße 100\, München\, 81371\, Deutschland
CATEGORIES:Bibelkreise
ORGANIZER;CN="Adventgemeinde Waldfrieden":MAILTO:info@sta-waldfrieden.de
END:VEVENT
BEGIN:VEVENT
DTSTART;TZID=Europe/Berlin:20231028T110000
DTEND;TZID=Europe/Berlin:20231028T120000
DTSTAMP:20260424T114512
CREATED:20231008T104236Z
LAST-MODIFIED:20231008T104236Z
UID:10000146-1698490800-1698494400@sta-waldfrieden.de
SUMMARY:Gottesdienst mit Andy Schreiber
DESCRIPTION:
URL:https://sta-waldfrieden.de/event/gottesdienst-mit-andy-schreiber/
LOCATION:Adventgemeinde München-Waldfrieden\, Ehrwalder Straße 87\, München\, 81377
CATEGORIES:Gottesdienst
ORGANIZER;CN="Adventgemeinde Waldfrieden":MAILTO:info@sta-waldfrieden.de
END:VEVENT
END:VCALENDAR