BEGIN:VCALENDAR
VERSION:2.0
PRODID:-//Adventgemeinde München-Waldfrieden - ECPv6.15.20//NONSGML v1.0//EN
CALSCALE:GREGORIAN
METHOD:PUBLISH
X-WR-CALNAME:Adventgemeinde München-Waldfrieden
X-ORIGINAL-URL:https://sta-waldfrieden.de
X-WR-CALDESC:Veranstaltungen für Adventgemeinde München-Waldfrieden
REFRESH-INTERVAL;VALUE=DURATION:PT1H
X-Robots-Tag:noindex
X-PUBLISHED-TTL:PT1H
BEGIN:VTIMEZONE
TZID:Europe/Berlin
BEGIN:DAYLIGHT
TZOFFSETFROM:+0100
TZOFFSETTO:+0200
TZNAME:CEST
DTSTART:20220327T010000
END:DAYLIGHT
BEGIN:STANDARD
TZOFFSETFROM:+0200
TZOFFSETTO:+0100
TZNAME:CET
DTSTART:20221030T010000
END:STANDARD
BEGIN:DAYLIGHT
TZOFFSETFROM:+0100
TZOFFSETTO:+0200
TZNAME:CEST
DTSTART:20230326T010000
END:DAYLIGHT
BEGIN:STANDARD
TZOFFSETFROM:+0200
TZOFFSETTO:+0100
TZNAME:CET
DTSTART:20231029T010000
END:STANDARD
BEGIN:DAYLIGHT
TZOFFSETFROM:+0100
TZOFFSETTO:+0200
TZNAME:CEST
DTSTART:20240331T010000
END:DAYLIGHT
BEGIN:STANDARD
TZOFFSETFROM:+0200
TZOFFSETTO:+0100
TZNAME:CET
DTSTART:20241027T010000
END:STANDARD
END:VTIMEZONE
BEGIN:VEVENT
DTSTART;TZID=Europe/Berlin:20231202T110000
DTEND;TZID=Europe/Berlin:20231202T120000
DTSTAMP:20260422T064008
CREATED:20231128T155329Z
LAST-MODIFIED:20231128T155329Z
UID:10000154-1701514800-1701518400@sta-waldfrieden.de
SUMMARY:Gottesdienst mit Yasmin Grauenhorst
DESCRIPTION:
URL:https://sta-waldfrieden.de/event/gottesdienst-mit-yasmin-grauenhorst-2/
LOCATION:Adventgemeinde München-Waldfrieden\, Ehrwalder Straße 87\, München\, 81377
CATEGORIES:Gottesdienst
ORGANIZER;CN="Adventgemeinde Waldfrieden":MAILTO:info@sta-waldfrieden.de
END:VEVENT
BEGIN:VEVENT
DTSTART;TZID=Europe/Berlin:20231202T150000
DTEND;TZID=Europe/Berlin:20231202T170000
DTSTAMP:20260422T064008
CREATED:20231007T145609Z
LAST-MODIFIED:20231007T145609Z
UID:10000139-1701529200-1701536400@sta-waldfrieden.de
SUMMARY:Pfadfinder | Lederbeutel mit Andi
DESCRIPTION:
URL:https://sta-waldfrieden.de/event/pfadfinder-lederbeutel-mit-andi/
LOCATION:Adventgemeinde München-Waldfrieden\, Ehrwalder Straße 87\, München\, 81377
CATEGORIES:Pfadfinder
ORGANIZER;CN="Waldfriedener Waldk%C3%A4uze":MAILTO:pfadfinder@sta-waldfrieden.de
END:VEVENT
BEGIN:VEVENT
DTSTART;TZID=Europe/Berlin:20231205T190000
DTEND;TZID=Europe/Berlin:20231205T200000
DTSTAMP:20260422T064008
CREATED:20230609T103558Z
LAST-MODIFIED:20231007T144736Z
UID:10000134-1701802800-1701806400@sta-waldfrieden.de
SUMMARY:Hauskreis - Schäftlanstraße
DESCRIPTION:Nähere Infos bei Miri
URL:https://sta-waldfrieden.de/event/hauskreis-schaeftlanstrasse/2023-12-05/
LOCATION:Hauskreis in der Schäftlanstraße 100\, Schäftlanstraße 100\, München\, 81371\, Deutschland
CATEGORIES:Bibelkreise
ORGANIZER;CN="Adventgemeinde Waldfrieden":MAILTO:info@sta-waldfrieden.de
END:VEVENT
BEGIN:VEVENT
DTSTART;TZID=Europe/Berlin:20231209T110000
DTEND;TZID=Europe/Berlin:20231209T120000
DTSTAMP:20260422T064008
CREATED:20231128T155441Z
LAST-MODIFIED:20231128T155441Z
UID:10000155-1702119600-1702123200@sta-waldfrieden.de
SUMMARY:Gottesdienst mit Lea Helmrath
DESCRIPTION:
URL:https://sta-waldfrieden.de/event/gottesdienst-mit-lea-helmrath/
LOCATION:Adventgemeinde München-Waldfrieden\, Ehrwalder Straße 87\, München\, 81377
CATEGORIES:Gottesdienst
ORGANIZER;CN="Adventgemeinde Waldfrieden":MAILTO:info@sta-waldfrieden.de
END:VEVENT
BEGIN:VEVENT
DTSTART;TZID=Europe/Berlin:20231209T170000
DTEND;TZID=Europe/Berlin:20231209T200000
DTSTAMP:20260422T064008
CREATED:20230505T092906Z
LAST-MODIFIED:20240201T084850Z
UID:10000159-1702141200-1702152000@sta-waldfrieden.de
SUMMARY:Munich-Meets
DESCRIPTION:
URL:https://sta-waldfrieden.de/event/munich-meets/2023-12-09/
LOCATION:Adventgemeinde München-Waldfrieden\, Ehrwalder Straße 87\, München\, 81377
CATEGORIES:Jugend
ORGANIZER;CN="Adventgemeinde Waldfrieden":MAILTO:info@sta-waldfrieden.de
END:VEVENT
BEGIN:VEVENT
DTSTART;TZID=Europe/Berlin:20231210T170000
DTEND;TZID=Europe/Berlin:20231210T200000
DTSTAMP:20260422T064008
CREATED:20231007T151219Z
LAST-MODIFIED:20231007T151219Z
UID:10000144-1702227600-1702238400@sta-waldfrieden.de
SUMMARY:Plätzchen backen mit Gordana
DESCRIPTION:
URL:https://sta-waldfrieden.de/event/plaetzchen-backen-mit-gordana/
LOCATION:Adventgemeinde München-Waldfrieden\, Ehrwalder Straße 87\, München\, 81377
CATEGORIES:Jugend,Kinder,Senioren,Sonstiges
ORGANIZER;CN="Adventgemeinde Waldfrieden":MAILTO:info@sta-waldfrieden.de
END:VEVENT
BEGIN:VEVENT
DTSTART;TZID=Europe/Berlin:20231214T190000
DTEND;TZID=Europe/Berlin:20231214T200000
DTSTAMP:20260422T064008
CREATED:20221209T132204Z
LAST-MODIFIED:20241127T113848Z
UID:10000143-1702580400-1702584000@sta-waldfrieden.de
SUMMARY:Bibelkreis
DESCRIPTION:
URL:https://sta-waldfrieden.de/event/bibelkreis/2023-12-14/
LOCATION:Adventgemeinde München-Waldfrieden\, Ehrwalder Straße 87\, München\, 81377
CATEGORIES:Bibelkreise
ATTACH;FMTTYPE=image/jpeg:https://sta-waldfrieden.de/wp-content/uploads/2022/12/bibelkreis_web.jpg
ORGANIZER;CN="Adventgemeinde Waldfrieden":MAILTO:info@sta-waldfrieden.de
END:VEVENT
BEGIN:VEVENT
DTSTART;VALUE=DATE:20231216
DTEND;VALUE=DATE:20231217
DTSTAMP:20260422T064008
CREATED:20231007T151637Z
LAST-MODIFIED:20231007T151637Z
UID:10000145-1702684800-1702771199@sta-waldfrieden.de
SUMMARY:Adventsfeier
DESCRIPTION:
URL:https://sta-waldfrieden.de/event/adventsfeier/
CATEGORIES:Jugend,Kinder,Pfadfinder,Senioren,Sonstiges
END:VEVENT
BEGIN:VEVENT
DTSTART;TZID=Europe/Berlin:20231216T110000
DTEND;TZID=Europe/Berlin:20231216T120000
DTSTAMP:20260422T064008
CREATED:20231128T155523Z
LAST-MODIFIED:20231128T155523Z
UID:10000156-1702724400-1702728000@sta-waldfrieden.de
SUMMARY:Gottesdienst mit Rafael Krüger
DESCRIPTION:
URL:https://sta-waldfrieden.de/event/gottesdienst-mit-rafael-krueger-7/
LOCATION:Adventgemeinde München-Waldfrieden\, Ehrwalder Straße 87\, München\, 81377
CATEGORIES:Gottesdienst
ORGANIZER;CN="Adventgemeinde Waldfrieden":MAILTO:info@sta-waldfrieden.de
END:VEVENT
BEGIN:VEVENT
DTSTART;TZID=Europe/Berlin:20231223T110000
DTEND;TZID=Europe/Berlin:20231223T120000
DTSTAMP:20260422T064008
CREATED:20231128T155548Z
LAST-MODIFIED:20231128T155548Z
UID:10000157-1703329200-1703332800@sta-waldfrieden.de
SUMMARY:Gottesdienst mit Miki Jovanovic
DESCRIPTION:
URL:https://sta-waldfrieden.de/event/gottesdienst-mit-miki-jovanovic-9/
LOCATION:Adventgemeinde München-Waldfrieden\, Ehrwalder Straße 87\, München\, 81377
CATEGORIES:Gottesdienst
ORGANIZER;CN="Adventgemeinde Waldfrieden":MAILTO:info@sta-waldfrieden.de
END:VEVENT
BEGIN:VEVENT
DTSTART;TZID=Europe/Berlin:20231230T110000
DTEND;TZID=Europe/Berlin:20231230T120000
DTSTAMP:20260422T064008
CREATED:20231128T155600Z
LAST-MODIFIED:20231128T155600Z
UID:10000158-1703934000-1703937600@sta-waldfrieden.de
SUMMARY:Gottesdienst mit Miki Jovanovic
DESCRIPTION:
URL:https://sta-waldfrieden.de/event/gottesdienst-mit-miki-jovanovic-10/
LOCATION:Adventgemeinde München-Waldfrieden\, Ehrwalder Straße 87\, München\, 81377
CATEGORIES:Gottesdienst
ORGANIZER;CN="Adventgemeinde Waldfrieden":MAILTO:info@sta-waldfrieden.de
END:VEVENT
BEGIN:VEVENT
DTSTART;TZID=Europe/Berlin:20231231T180000
DTEND;TZID=Europe/Berlin:20231231T235900
DTSTAMP:20260422T064008
CREATED:20230120T101331Z
LAST-MODIFIED:20230120T101331Z
UID:10000055-1704045600-1704067140@sta-waldfrieden.de
SUMMARY:Sylvester in Waldfrieden (noch offen
DESCRIPTION:
URL:https://sta-waldfrieden.de/event/sylvester-in-waldfrieden-noch-offen/
LOCATION:Adventgemeinde München-Waldfrieden\, Ehrwalder Straße 87\, München\, 81377
CATEGORIES:Sonstiges
ORGANIZER;CN="Adventgemeinde Waldfrieden":MAILTO:info@sta-waldfrieden.de
END:VEVENT
END:VCALENDAR