BEGIN:VCALENDAR
VERSION:2.0
PRODID:-//Adventgemeinde München-Waldfrieden - ECPv6.15.20//NONSGML v1.0//EN
CALSCALE:GREGORIAN
METHOD:PUBLISH
X-ORIGINAL-URL:https://sta-waldfrieden.de
X-WR-CALDESC:Veranstaltungen für Adventgemeinde München-Waldfrieden
REFRESH-INTERVAL;VALUE=DURATION:PT1H
X-Robots-Tag:noindex
X-PUBLISHED-TTL:PT1H
BEGIN:VTIMEZONE
TZID:Europe/Berlin
BEGIN:DAYLIGHT
TZOFFSETFROM:+0100
TZOFFSETTO:+0200
TZNAME:CEST
DTSTART:20230326T010000
END:DAYLIGHT
BEGIN:STANDARD
TZOFFSETFROM:+0200
TZOFFSETTO:+0100
TZNAME:CET
DTSTART:20231029T010000
END:STANDARD
BEGIN:DAYLIGHT
TZOFFSETFROM:+0100
TZOFFSETTO:+0200
TZNAME:CEST
DTSTART:20240331T010000
END:DAYLIGHT
BEGIN:STANDARD
TZOFFSETFROM:+0200
TZOFFSETTO:+0100
TZNAME:CET
DTSTART:20241027T010000
END:STANDARD
BEGIN:DAYLIGHT
TZOFFSETFROM:+0100
TZOFFSETTO:+0200
TZNAME:CEST
DTSTART:20250330T010000
END:DAYLIGHT
BEGIN:STANDARD
TZOFFSETFROM:+0200
TZOFFSETTO:+0100
TZNAME:CET
DTSTART:20251026T010000
END:STANDARD
END:VTIMEZONE
BEGIN:VEVENT
DTSTART;TZID=Europe/Berlin:20240203T150000
DTEND;TZID=Europe/Berlin:20240203T170000
DTSTAMP:20260422T031406
CREATED:20240131T195312Z
LAST-MODIFIED:20240131T195312Z
UID:10000183-1706972400-1706979600@sta-waldfrieden.de
SUMMARY:Pfadfinder
DESCRIPTION:
URL:https://sta-waldfrieden.de/event/pfadfinder/
LOCATION:Adventgemeinde München-Waldfrieden\, Ehrwalder Straße 87\, München\, 81377
CATEGORIES:Pfadfinder
ORGANIZER;CN="Waldfriedener Waldk%C3%A4uze":MAILTO:pfadfinder@sta-waldfrieden.de
END:VEVENT
BEGIN:VEVENT
DTSTART;TZID=Europe/Berlin:20240207T193000
DTEND;TZID=Europe/Berlin:20240207T203000
DTSTAMP:20260422T031406
CREATED:20221209T132204Z
LAST-MODIFIED:20241127T113848Z
UID:10000176-1707334200-1707337800@sta-waldfrieden.de
SUMMARY:Bibelkreis
DESCRIPTION:
URL:https://sta-waldfrieden.de/event/bibelkreis/2024-02-07/
LOCATION:Adventgemeinde München-Waldfrieden\, Ehrwalder Straße 87\, München\, 81377
CATEGORIES:Bibelkreise
ATTACH;FMTTYPE=image/jpeg:https://sta-waldfrieden.de/wp-content/uploads/2022/12/bibelkreis_web.jpg
ORGANIZER;CN="Adventgemeinde Waldfrieden":MAILTO:info@sta-waldfrieden.de
END:VEVENT
BEGIN:VEVENT
DTSTART;TZID=Europe/Berlin:20240217T110000
DTEND;TZID=Europe/Berlin:20240217T120000
DTSTAMP:20260422T031407
CREATED:20240211T113817Z
LAST-MODIFIED:20240211T113817Z
UID:10000196-1708167600-1708171200@sta-waldfrieden.de
SUMMARY:Gottesdienst mit Miki Jovanovic
DESCRIPTION:
URL:https://sta-waldfrieden.de/event/gottesdienst-mit-miki-jovanovic-11/
LOCATION:Adventgemeinde München-Waldfrieden\, Ehrwalder Straße 87\, München\, 81377
CATEGORIES:Gottesdienst
ORGANIZER;CN="Adventgemeinde Waldfrieden":MAILTO:info@sta-waldfrieden.de
END:VEVENT
BEGIN:VEVENT
DTSTART;TZID=Europe/Berlin:20240221T193000
DTEND;TZID=Europe/Berlin:20240221T203000
DTSTAMP:20260422T031407
CREATED:20221209T132204Z
LAST-MODIFIED:20241127T113848Z
UID:10000177-1708543800-1708547400@sta-waldfrieden.de
SUMMARY:Bibelkreis
DESCRIPTION:
URL:https://sta-waldfrieden.de/event/bibelkreis/2024-02-21/
LOCATION:Adventgemeinde München-Waldfrieden\, Ehrwalder Straße 87\, München\, 81377
CATEGORIES:Bibelkreise
ATTACH;FMTTYPE=image/jpeg:https://sta-waldfrieden.de/wp-content/uploads/2022/12/bibelkreis_web.jpg
ORGANIZER;CN="Adventgemeinde Waldfrieden":MAILTO:info@sta-waldfrieden.de
END:VEVENT
BEGIN:VEVENT
DTSTART;TZID=Europe/Berlin:20240224T110000
DTEND;TZID=Europe/Berlin:20240224T120000
DTSTAMP:20260422T031407
CREATED:20240211T113609Z
LAST-MODIFIED:20240211T113609Z
UID:10000195-1708772400-1708776000@sta-waldfrieden.de
SUMMARY:Gottesdienst mit Rafael Krüger
DESCRIPTION:
URL:https://sta-waldfrieden.de/event/gottesdienst-mit-rafael-krueger-9/
LOCATION:Adventgemeinde München-Waldfrieden\, Ehrwalder Straße 87\, München\, 81377
CATEGORIES:Gottesdienst
ORGANIZER;CN="Adventgemeinde Waldfrieden":MAILTO:info@sta-waldfrieden.de
END:VEVENT
BEGIN:VEVENT
DTSTART;TZID=Europe/Berlin:20240225T140000
DTEND;TZID=Europe/Berlin:20240225T180000
DTSTAMP:20260422T031407
CREATED:20231025T180205Z
LAST-MODIFIED:20231025T180238Z
UID:10000147-1708869600-1708884000@sta-waldfrieden.de
SUMMARY:Gitarren Workshop
DESCRIPTION:
URL:https://sta-waldfrieden.de/event/gitarren-workshop/
LOCATION:Adventgemeinde München-Waldfrieden\, Ehrwalder Straße 87\, München\, 81377
CATEGORIES:Workshops
ORGANIZER;CN="Adventgemeinde Waldfrieden":MAILTO:info@sta-waldfrieden.de
END:VEVENT
END:VCALENDAR