BEGIN:VCALENDAR
VERSION:2.0
PRODID:-//Adventgemeinde München-Waldfrieden - ECPv6.15.20//NONSGML v1.0//EN
CALSCALE:GREGORIAN
METHOD:PUBLISH
X-ORIGINAL-URL:https://sta-waldfrieden.de
X-WR-CALDESC:Veranstaltungen für Adventgemeinde München-Waldfrieden
REFRESH-INTERVAL;VALUE=DURATION:PT1H
X-Robots-Tag:noindex
X-PUBLISHED-TTL:PT1H
BEGIN:VTIMEZONE
TZID:Europe/Berlin
BEGIN:DAYLIGHT
TZOFFSETFROM:+0100
TZOFFSETTO:+0200
TZNAME:CEST
DTSTART:20230326T010000
END:DAYLIGHT
BEGIN:STANDARD
TZOFFSETFROM:+0200
TZOFFSETTO:+0100
TZNAME:CET
DTSTART:20231029T010000
END:STANDARD
BEGIN:DAYLIGHT
TZOFFSETFROM:+0100
TZOFFSETTO:+0200
TZNAME:CEST
DTSTART:20240331T010000
END:DAYLIGHT
BEGIN:STANDARD
TZOFFSETFROM:+0200
TZOFFSETTO:+0100
TZNAME:CET
DTSTART:20241027T010000
END:STANDARD
BEGIN:DAYLIGHT
TZOFFSETFROM:+0100
TZOFFSETTO:+0200
TZNAME:CEST
DTSTART:20250330T010000
END:DAYLIGHT
BEGIN:STANDARD
TZOFFSETFROM:+0200
TZOFFSETTO:+0100
TZNAME:CET
DTSTART:20251026T010000
END:STANDARD
END:VTIMEZONE
BEGIN:VEVENT
DTSTART;TZID=Europe/Berlin:20240601T110000
DTEND;TZID=Europe/Berlin:20240601T120000
DTSTAMP:20260421T195449
CREATED:20240321T114247Z
LAST-MODIFIED:20240321T114248Z
UID:10000209-1717239600-1717243200@sta-waldfrieden.de
SUMMARY:Kindersegnungsgottesdienst
DESCRIPTION:
URL:https://sta-waldfrieden.de/event/kindersegnungsgottesdienst/
LOCATION:Adventgemeinde München-Waldfrieden\, Ehrwalder Straße 87\, München\, 81377
CATEGORIES:Gottesdienst,Kinder
ORGANIZER;CN="Adventgemeinde Waldfrieden":MAILTO:info@sta-waldfrieden.de
END:VEVENT
BEGIN:VEVENT
DTSTART;TZID=Europe/Berlin:20240608T110000
DTEND;TZID=Europe/Berlin:20240608T120000
DTSTAMP:20260421T195449
CREATED:20240528T192003Z
LAST-MODIFIED:20240528T192003Z
UID:10000217-1717844400-1717848000@sta-waldfrieden.de
SUMMARY:Gottesdienst mit Hills & Valleys und Alexander Kampmann
DESCRIPTION:
URL:https://sta-waldfrieden.de/event/gottesdienst-mit-hills-valleys-und-alexander-kampmann/
LOCATION:Adventgemeinde München-Waldfrieden\, Ehrwalder Straße 87\, München\, 81377
CATEGORIES:Gottesdienst
ORGANIZER;CN="Adventgemeinde Waldfrieden":MAILTO:info@sta-waldfrieden.de
END:VEVENT
BEGIN:VEVENT
DTSTART;TZID=Europe/Berlin:20240608T150000
DTEND;TZID=Europe/Berlin:20240608T170000
DTSTAMP:20260421T195449
CREATED:20240131T195905Z
LAST-MODIFIED:20240131T195905Z
UID:10000188-1717858800-1717866000@sta-waldfrieden.de
SUMMARY:Pfadfinder
DESCRIPTION:
URL:https://sta-waldfrieden.de/event/pfadfinder-3/
LOCATION:Adventgemeinde München-Waldfrieden\, Ehrwalder Straße 87\, München\, 81377
CATEGORIES:Pfadfinder
ORGANIZER;CN="Waldfriedener Waldk%C3%A4uze":MAILTO:pfadfinder@sta-waldfrieden.de
END:VEVENT
BEGIN:VEVENT
DTSTART;TZID=Europe/Berlin:20240608T160000
DTEND;TZID=Europe/Berlin:20240608T170000
DTSTAMP:20260421T195449
CREATED:20240410T100156Z
LAST-MODIFIED:20241127T114725Z
UID:10000215-1717862400-1717866000@sta-waldfrieden.de
SUMMARY:Jugendstunde | WestPack
DESCRIPTION:
URL:https://sta-waldfrieden.de/event/jugendstunde-westpack/2024-06-08/
LOCATION:Adventgemeinde München-Waldfrieden\, Ehrwalder Straße 87\, München\, 81377
CATEGORIES:Jugend
ATTACH;FMTTYPE=image/jpeg:https://sta-waldfrieden.de/wp-content/uploads/2024/04/WhatsApp-Image-2024-03-23-at-08.10.11.jpeg
ORGANIZER;CN="Adventgemeinde Waldfrieden":MAILTO:info@sta-waldfrieden.de
END:VEVENT
BEGIN:VEVENT
DTSTART;TZID=Europe/Berlin:20240615T110000
DTEND;TZID=Europe/Berlin:20240615T120000
DTSTAMP:20260421T195449
CREATED:20240528T192050Z
LAST-MODIFIED:20240528T192050Z
UID:10000218-1718449200-1718452800@sta-waldfrieden.de
SUMMARY:Gottesdienst mit Domingos Cesca
DESCRIPTION:
URL:https://sta-waldfrieden.de/event/gottesdienst-mit-domingos-cesca-2/
LOCATION:Adventgemeinde München-Waldfrieden\, Ehrwalder Straße 87\, München\, 81377
CATEGORIES:Gottesdienst
ORGANIZER;CN="Adventgemeinde Waldfrieden":MAILTO:info@sta-waldfrieden.de
END:VEVENT
BEGIN:VEVENT
DTSTART;TZID=Europe/Berlin:20240615T170000
DTEND;TZID=Europe/Berlin:20240615T200000
DTSTAMP:20260421T195449
CREATED:20230505T092906Z
LAST-MODIFIED:20240201T084850Z
UID:10000193-1718470800-1718481600@sta-waldfrieden.de
SUMMARY:Munich-Meets
DESCRIPTION:
URL:https://sta-waldfrieden.de/event/munich-meets/2024-06-15/
LOCATION:Adventgemeinde München-Waldfrieden\, Ehrwalder Straße 87\, München\, 81377
CATEGORIES:Jugend
ORGANIZER;CN="Adventgemeinde Waldfrieden":MAILTO:info@sta-waldfrieden.de
END:VEVENT
BEGIN:VEVENT
DTSTART;TZID=Europe/Berlin:20240622T110000
DTEND;TZID=Europe/Berlin:20240622T120000
DTSTAMP:20260421T195449
CREATED:20240528T192343Z
LAST-MODIFIED:20240528T192343Z
UID:10000219-1719054000-1719057600@sta-waldfrieden.de
SUMMARY:WortWechsel - ein besonderer Gottesdienst des Austauschens
DESCRIPTION:
URL:https://sta-waldfrieden.de/event/wortwechsel-ein-besonderer-gottesdienst-des-austauschens/
LOCATION:Adventgemeinde München-Waldfrieden\, Ehrwalder Straße 87\, München\, 81377
CATEGORIES:Gottesdienst,Kinder
ORGANIZER;CN="Adventgemeinde Waldfrieden":MAILTO:info@sta-waldfrieden.de
END:VEVENT
BEGIN:VEVENT
DTSTART;TZID=Europe/Berlin:20240622T150000
DTEND;TZID=Europe/Berlin:20240622T170000
DTSTAMP:20260421T195449
CREATED:20240131T195925Z
LAST-MODIFIED:20240131T195925Z
UID:10000189-1719068400-1719075600@sta-waldfrieden.de
SUMMARY:Pfadfinder
DESCRIPTION:
URL:https://sta-waldfrieden.de/event/pfadfinder-4/
LOCATION:Adventgemeinde München-Waldfrieden\, Ehrwalder Straße 87\, München\, 81377
CATEGORIES:Pfadfinder
ORGANIZER;CN="Waldfriedener Waldk%C3%A4uze":MAILTO:pfadfinder@sta-waldfrieden.de
END:VEVENT
BEGIN:VEVENT
DTSTART;TZID=Europe/Berlin:20240622T160000
DTEND;TZID=Europe/Berlin:20240622T170000
DTSTAMP:20260421T195449
CREATED:20240410T100156Z
LAST-MODIFIED:20241127T114725Z
UID:10000216-1719072000-1719075600@sta-waldfrieden.de
SUMMARY:Jugendstunde | WestPack
DESCRIPTION:
URL:https://sta-waldfrieden.de/event/jugendstunde-westpack/2024-06-22/
LOCATION:Adventgemeinde München-Waldfrieden\, Ehrwalder Straße 87\, München\, 81377
CATEGORIES:Jugend
ATTACH;FMTTYPE=image/jpeg:https://sta-waldfrieden.de/wp-content/uploads/2024/04/WhatsApp-Image-2024-03-23-at-08.10.11.jpeg
ORGANIZER;CN="Adventgemeinde Waldfrieden":MAILTO:info@sta-waldfrieden.de
END:VEVENT
BEGIN:VEVENT
DTSTART;TZID=Europe/Berlin:20240629T110000
DTEND;TZID=Europe/Berlin:20240629T120000
DTSTAMP:20260421T195449
CREATED:20240528T192421Z
LAST-MODIFIED:20240528T192421Z
UID:10000220-1719658800-1719662400@sta-waldfrieden.de
SUMMARY:Gottesdienst mit Miki Jovanovic
DESCRIPTION:
URL:https://sta-waldfrieden.de/event/gottesdienst-mit-miki-jovanovic-16/
LOCATION:Adventgemeinde München-Waldfrieden\, Ehrwalder Straße 87\, München\, 81377
CATEGORIES:Gottesdienst,Kinder
ORGANIZER;CN="Adventgemeinde Waldfrieden":MAILTO:info@sta-waldfrieden.de
END:VEVENT
END:VCALENDAR