BEGIN:VCALENDAR
VERSION:2.0
PRODID:-//Adventgemeinde München-Waldfrieden - ECPv6.15.20//NONSGML v1.0//EN
CALSCALE:GREGORIAN
METHOD:PUBLISH
X-ORIGINAL-URL:https://sta-waldfrieden.de
X-WR-CALDESC:Veranstaltungen für Adventgemeinde München-Waldfrieden
REFRESH-INTERVAL;VALUE=DURATION:PT1H
X-Robots-Tag:noindex
X-PUBLISHED-TTL:PT1H
BEGIN:VTIMEZONE
TZID:Europe/Berlin
BEGIN:DAYLIGHT
TZOFFSETFROM:+0100
TZOFFSETTO:+0200
TZNAME:CEST
DTSTART:20230326T010000
END:DAYLIGHT
BEGIN:STANDARD
TZOFFSETFROM:+0200
TZOFFSETTO:+0100
TZNAME:CET
DTSTART:20231029T010000
END:STANDARD
BEGIN:DAYLIGHT
TZOFFSETFROM:+0100
TZOFFSETTO:+0200
TZNAME:CEST
DTSTART:20240331T010000
END:DAYLIGHT
BEGIN:STANDARD
TZOFFSETFROM:+0200
TZOFFSETTO:+0100
TZNAME:CET
DTSTART:20241027T010000
END:STANDARD
BEGIN:DAYLIGHT
TZOFFSETFROM:+0100
TZOFFSETTO:+0200
TZNAME:CEST
DTSTART:20250330T010000
END:DAYLIGHT
BEGIN:STANDARD
TZOFFSETFROM:+0200
TZOFFSETTO:+0100
TZNAME:CET
DTSTART:20251026T010000
END:STANDARD
END:VTIMEZONE
BEGIN:VEVENT
DTSTART;TZID=Europe/Berlin:20241005T110000
DTEND;TZID=Europe/Berlin:20241005T120000
DTSTAMP:20260421T134340
CREATED:20240812T183314Z
LAST-MODIFIED:20240812T183314Z
UID:10000249-1728126000-1728129600@sta-waldfrieden.de
SUMMARY:Gottesdienst mit Miki Jovanovic
DESCRIPTION:
URL:https://sta-waldfrieden.de/event/gottesdienst-mit-miki-jovanovic-21/
LOCATION:Adventgemeinde München-Waldfrieden\, Ehrwalder Straße 87\, München\, 81377
CATEGORIES:Gottesdienst
ORGANIZER;CN="Adventgemeinde Waldfrieden":MAILTO:info@sta-waldfrieden.de
END:VEVENT
BEGIN:VEVENT
DTSTART;TZID=Europe/Berlin:20241005T140000
DTEND;TZID=Europe/Berlin:20241005T160000
DTSTAMP:20260421T134340
CREATED:20240812T181505Z
LAST-MODIFIED:20240812T181505Z
UID:10000236-1728136800-1728144000@sta-waldfrieden.de
SUMMARY:Pfadfinder - Improtheater mit Lea und Julia
DESCRIPTION:
URL:https://sta-waldfrieden.de/event/pfadfinder-improtheater-mit-lea-und-julia/
LOCATION:Adventgemeinde München-Waldfrieden\, Ehrwalder Straße 87\, München\, 81377
CATEGORIES:Pfadfinder
ORGANIZER;CN="Waldfriedener Waldk%C3%A4uze":MAILTO:pfadfinder@sta-waldfrieden.de
END:VEVENT
BEGIN:VEVENT
DTSTART;TZID=Europe/Berlin:20241012T110000
DTEND;TZID=Europe/Berlin:20241012T120000
DTSTAMP:20260421T134340
CREATED:20240812T183341Z
LAST-MODIFIED:20240812T183341Z
UID:10000250-1728730800-1728734400@sta-waldfrieden.de
SUMMARY:Gottesdienst mit Stefan Bretschneider
DESCRIPTION:
URL:https://sta-waldfrieden.de/event/gottesdienst-mit-stefan-bretschneider/
LOCATION:Adventgemeinde München-Waldfrieden\, Ehrwalder Straße 87\, München\, 81377
CATEGORIES:Gottesdienst
ORGANIZER;CN="Adventgemeinde Waldfrieden":MAILTO:info@sta-waldfrieden.de
END:VEVENT
BEGIN:VEVENT
DTSTART;TZID=Europe/Berlin:20241019T110000
DTEND;TZID=Europe/Berlin:20241019T120000
DTSTAMP:20260421T134340
CREATED:20240812T183400Z
LAST-MODIFIED:20240812T183400Z
UID:10000251-1729335600-1729339200@sta-waldfrieden.de
SUMMARY:Gottesdienst mit Miki Jovanovic
DESCRIPTION:
URL:https://sta-waldfrieden.de/event/gottesdienst-mit-miki-jovanovic-22/
LOCATION:Adventgemeinde München-Waldfrieden\, Ehrwalder Straße 87\, München\, 81377
CATEGORIES:Gottesdienst
ORGANIZER;CN="Adventgemeinde Waldfrieden":MAILTO:info@sta-waldfrieden.de
END:VEVENT
BEGIN:VEVENT
DTSTART;TZID=Europe/Berlin:20241019T170000
DTEND;TZID=Europe/Berlin:20241019T200000
DTSTAMP:20260421T134340
CREATED:20230505T092906Z
LAST-MODIFIED:20240201T084850Z
UID:10000194-1729357200-1729368000@sta-waldfrieden.de
SUMMARY:Munich-Meets
DESCRIPTION:
URL:https://sta-waldfrieden.de/event/munich-meets/2024-10-19/
LOCATION:Adventgemeinde München-Waldfrieden\, Ehrwalder Straße 87\, München\, 81377
CATEGORIES:Jugend
ORGANIZER;CN="Adventgemeinde Waldfrieden":MAILTO:info@sta-waldfrieden.de
END:VEVENT
BEGIN:VEVENT
DTSTART;VALUE=DATE:20241020
DTEND;VALUE=DATE:20241021
DTSTAMP:20260421T134340
CREATED:20240812T181551Z
LAST-MODIFIED:20240812T181551Z
UID:10000237-1729382400-1729468799@sta-waldfrieden.de
SUMMARY:Pfadfinder - Wandertag
DESCRIPTION:Genauere Informationen folgen.
URL:https://sta-waldfrieden.de/event/pfadfinder-wandertag-2/
LOCATION:Adventgemeinde München-Waldfrieden\, Ehrwalder Straße 87\, München\, 81377
CATEGORIES:Pfadfinder
ORGANIZER;CN="Waldfriedener Waldk%C3%A4uze":MAILTO:pfadfinder@sta-waldfrieden.de
END:VEVENT
BEGIN:VEVENT
DTSTART;TZID=Europe/Berlin:20241026T110000
DTEND;TZID=Europe/Berlin:20241026T120000
DTSTAMP:20260421T134340
CREATED:20240812T183436Z
LAST-MODIFIED:20240812T183436Z
UID:10000252-1729940400-1729944000@sta-waldfrieden.de
SUMMARY:Gottesdienst mit Freddy Woysch
DESCRIPTION:
URL:https://sta-waldfrieden.de/event/gottesdienst-mit-freddy-woysch/
LOCATION:Adventgemeinde München-Waldfrieden\, Ehrwalder Straße 87\, München\, 81377
CATEGORIES:Gottesdienst
ORGANIZER;CN="Adventgemeinde Waldfrieden":MAILTO:info@sta-waldfrieden.de
END:VEVENT
END:VCALENDAR